BEGIN:VCALENDAR
VERSION:2.0
PRODID:-//eventon.com NONSGML v1.0//EN
BEGIN:VEVENT
UID:69e891aecddbf
DTSTAMP:20260422T111526
DTSTART:20240925T220000Z
DTEND:20240926T215900Z
LOCATION:
SUMMARY:Fahrt ins Blaue 2024
DESCRIPTION: Fahrt ins Blaue - wohin es wohl gehen wird\,  erfährt selbst der Chauffeur am Tag der Abfahrt. Und Sie? Lassen Sie sich überraschen! Leistungen: • Busfahrt inkl. Mautkosten • Eintritte & Führungen • Verlosung Pauschalpreis pro Person: € 79\, -
END:VEVENT
END:VCALENDAR