BEGIN:VCALENDAR
VERSION:2.0
PRODID:-//eventon.com NONSGML v1.0//EN
BEGIN:VEVENT
UID:69e73a829346f
DTSTAMP:20260421T105114
DTSTART:20241212T220000Z
DTEND:20241213T215900Z
LOCATION:Graz 
SUMMARY:Advent in Graz
DESCRIPTION: Der Advent gilt in Graz als die 5. Jahreszeit\,  für die sich die ganze Stadt herausputzt\,  um sich ihren Gästen so schön und vielfältig wie möglich zu präsentieren. In der GenussHauptstadt können Sie die Vorweihnachtszeit mit allen Sinnen wahrnehmen. Entdecken Sie die vielfältigen Möglichkeiten die Graz als Landeshauptstadt der Steiermark[..]
END:VEVENT
END:VCALENDAR