BEGIN:VCALENDAR
VERSION:2.0
PRODID:-//eventon.com NONSGML v1.0//EN
BEGIN:VEVENT
UID:69e73d3cd1d1f
DTSTAMP:20260421T110252
DTSTART:20260525T220000Z
DTEND:20260526T215900Z
LOCATION:Therme Geinberg 
SUMMARY:Therme Geinberg Tagesfahrt
DESCRIPTION: Leistungen: Busfahrt und Tageskarte Therme (ohne Sauna) In der Therme Geinberg im Innviertel finden Sie die wohl größte Wasserfläche pro Gast! Mmmh\,  einfach herrlich … In der südlich anmutenden Atmosphäre werden Sie sich wie in eine andere Welt versetzt fühlen. Die Karibik-Lagune mit Unterwassermusik und die zahlreichen mit Palmen dekorierten Wasserbecken[..]
END:VEVENT
END:VCALENDAR